BEGIN:VCALENDAR
VERSION:2.0
PRODID:-//wp-events-plugin.com//7.2.3.1//EN
TZID:Europe/Zurich
X-WR-TIMEZONE:Europe/Zurich
BEGIN:VEVENT
UID:120@schulelaeufelfingen.ch
DTSTART;TZID=Europe/Zurich:20261212T000000
DTEND;TZID=Europe/Zurich:20261212T000000
DTSTAMP:20260416T111458Z
URL:https://www.schulelaeufelfingen.ch/events/sing-mit-uns-konzert/
SUMMARY:Sing mit uns Konzert
DESCRIPTION:ein Konzert der 2./3. Klasse gemeinsam mit vielen anderen Klass
 en
CATEGORIES:Schuljahr 2026/27
END:VEVENT
BEGIN:VTIMEZONE
TZID:Europe/Zurich
X-LIC-LOCATION:Europe/Zurich
BEGIN:STANDARD
DTSTART:20261025T020000
TZOFFSETFROM:+0200
TZOFFSETTO:+0100
TZNAME:CET
END:STANDARD
END:VTIMEZONE
END:VCALENDAR